BEGIN:VCALENDAR
VERSION:2.0
PRODID:-//Tukios.com/
BEGIN:VEVENT
UID:d74b4646-3635-4f37-a788-57a5414913f3@www.loveheitmeyer.com
DTSTAMP:20260425T001240Z
DTSTART:20260430T180000Z
DTEND:20260501T000000Z
SUMMARY:Visitation
DESCRIPTION:
URL:https://www.loveheitmeyer.com/obituaries/carolyn-balbaugh
LOCATION:Love-Heitmeyer Funeral Home 226 Belmore St  Leipsic OH 45856
GEO:41.1040459;-83.9809716
END:VEVENT
END:VCALENDAR