BEGIN:VCALENDAR
VERSION:2.0
PRODID:-//Tukios.com/
BEGIN:VEVENT
UID:67f155bf-4a15-4ca4-991f-d6b2b340913c@www.loveheitmeyer.com
DTSTAMP:20260425T001920Z
DTSTART:20260501T140000Z
DTEND:20260501T150000Z
SUMMARY:Funeral Service
DESCRIPTION:
URL:https://www.loveheitmeyer.com/obituaries/carolyn-balbaugh
LOCATION:St. Nicholas Catholic Church 200 East Main Cross Street  Miller 
	City OH 45864
GEO:41.1032322;-84.1296833
END:VEVENT
END:VCALENDAR