BEGIN:VCALENDAR
VERSION:2.0
PRODID:-//Tukios.com/
BEGIN:VEVENT
UID:b2efa6ed-71d3-4ef0-be2d-b6ab8dff3870@www.loveheitmeyer.com
DTSTAMP:20260425T001617Z
DTSTART:20260501T150000Z
DTEND:20260501T160000Z
SUMMARY:Burial
DESCRIPTION:
URL:https://www.loveheitmeyer.com/obituaries/carolyn-balbaugh
LOCATION:St. Nicholas Church Cemetery Main Cross St.  Miller City OH 
	45864
GEO:41.1029465;-84.1327143
END:VEVENT
END:VCALENDAR