BEGIN:VCALENDAR
VERSION:2.0
PRODID:-//Tukios.com/
BEGIN:VEVENT
UID:d1334999-5b9c-4575-83e9-282b7cb53b15@www.loveheitmeyer.com
DTSTAMP:20260420T121917Z
DTSTART:20260421T180000Z
DTEND:20260421T230000Z
SUMMARY:Visitation
DESCRIPTION:
URL:https://www.loveheitmeyer.com/obituaries/jimmy-stephey
LOCATION: 610 Walnut St  Oakwood OH 45873
GEO:41.0930047;-84.3724832
END:VEVENT
END:VCALENDAR