BEGIN:VCALENDAR
VERSION:2.0
PRODID:-//Tukios.com/
BEGIN:VEVENT
UID:05e66385-7835-474b-a32f-fe97e5b331c3@www.loveheitmeyer.com
DTSTAMP:20260420T122347Z
DTSTART:20260421T230000Z
DTEND:20260422T000000Z
SUMMARY:Funeral Service
DESCRIPTION:
URL:https://www.loveheitmeyer.com/obituaries/jimmy-stephey
LOCATION: 610 Walnut St  Oakwood OH 45873
GEO:41.0930047;-84.3724832
END:VEVENT
END:VCALENDAR