BEGIN:VCALENDAR
VERSION:2.0
PRODID:-//Tukios.com/
BEGIN:VEVENT
UID:7de34c05-4e50-4231-97f1-c84f18727f06@www.loveheitmeyer.com
DTSTAMP:20260425T234130Z
DTSTART:20260430T190000Z
DTEND:20260430T230000Z
SUMMARY:Visitation
DESCRIPTION:
URL:https://www.loveheitmeyer.com/obituaries/louis-klausing
LOCATION: 405 E 3rd St  Ottawa OH 45875
GEO:41.0205735;-84.0438324
END:VEVENT
END:VCALENDAR