BEGIN:VCALENDAR
VERSION:2.0
PRODID:-//Tukios.com/
BEGIN:VEVENT
UID:406bab01-820a-4cfe-a769-2873435d4dd6@www.loveheitmeyer.com
DTSTAMP:20260425T233604Z
DTSTART:20260501T133000Z
DTEND:20260501T143000Z
SUMMARY:Visitation
DESCRIPTION:
URL:https://www.loveheitmeyer.com/obituaries/louis-klausing
LOCATION: 109 N Main St  Glandorf OH 45848
GEO:41.030343;-84.0795423
END:VEVENT
END:VCALENDAR