BEGIN:VCALENDAR
VERSION:2.0
PRODID:-//Tukios.com/
BEGIN:VEVENT
UID:888fc3af-0a65-4a5c-bdb1-227caf28670c@www.loveheitmeyer.com
DTSTAMP:20260425T233844Z
DTSTART:20260501T143000Z
DTEND:20260501T153000Z
SUMMARY:Mass
DESCRIPTION:
URL:https://www.loveheitmeyer.com/obituaries/louis-klausing
LOCATION: 109 N Main St  Glandorf OH 45848
GEO:41.030343;-84.0795423
END:VEVENT
END:VCALENDAR