BEGIN:VCALENDAR
VERSION:2.0
PRODID:-//Tukios.com/
BEGIN:VEVENT
UID:626a1426-1468-484e-82da-6fa29260fc59@www.loveheitmeyer.com
DTSTAMP:20260425T234309Z
DTSTART:20260501T153000Z
DTEND:20260501T163000Z
SUMMARY:Burial
DESCRIPTION:
URL:https://www.loveheitmeyer.com/obituaries/louis-klausing
LOCATION: Blanchard Ave.  Glandorf OH 
GEO:41.0295206;-84.0736757
END:VEVENT
END:VCALENDAR