BEGIN:VCALENDAR
VERSION:2.0
PRODID:-//Tukios.com/
BEGIN:VEVENT
UID:7d1e1a36-8b7c-4313-afd9-07a26fd384f7@www.loveheitmeyer.com
DTSTAMP:20260420T191421Z
DTSTART:20260501T150000Z
DTEND:20260501T170000Z
SUMMARY:Visitation
DESCRIPTION:
URL:https://www.loveheitmeyer.com/obituaries/michelle-barford
LOCATION:Devore-Snyder Funeral Home 637 State Route 61  Sunbury OH 43074
GEO:40.2495419;-82.8597509
END:VEVENT
END:VCALENDAR