BEGIN:VCALENDAR
VERSION:2.0
PRODID:-//Tukios.com/
BEGIN:VEVENT
UID:b33315c9-2dc1-4112-80b3-75a4c83f11d1@www.loveheitmeyer.com
DTSTAMP:20260420T190839Z
DTSTART:20260501T170000Z
DTEND:20260501T180000Z
SUMMARY:Celebration of Life
DESCRIPTION:
URL:https://www.loveheitmeyer.com/obituaries/michelle-barford
LOCATION:Devore-Snyder Funeral Home 637 State Route 61  Sunbury OH 43074
GEO:40.2495419;-82.8597509
END:VEVENT
END:VCALENDAR